BEGIN:VCALENDAR
VERSION:2.0
PRODID:-//hacksw/handcal//NONSGML v1.0//EN
BEGIN:VEVENT
SUMMARY:tournoi anniversaire de Langeais
UID:4c98c696-a74f-4742-b6df-c778789b4ee3
DTSTART:20260603T070000Z
DTEND:20260603T160000Z
LOCATION:Localisation   
CATEGORIES:Sportif
STATUS:
URL;VALUE=URI:https://comite-orleanais-bridge.club.ffbridge.fr/evenements/2026/06/03/tournoi-anniversaire-de-langeais-2441890
END:VEVENT
END:VCALENDAR
