BEGIN:VCALENDAR
VERSION:2.0
PRODID:-//hacksw/handcal//NONSGML v1.0//EN
BEGIN:VEVENT
SUMMARY:Tournoi ABVN La Chatre
UID:93b221d0-7ec3-45e1-ba3d-59961ac7ea84
DTSTART:20260531T120000Z
DTEND:20260531T220000Z
LOCATION:Localisation   
CATEGORIES:Sportif
STATUS:
URL;VALUE=URI:https://comite-orleanais-bridge.club.ffbridge.fr/evenements/2026/05/31/tournoi-abvn-la-chatre-2440641
END:VEVENT
END:VCALENDAR
