BEGIN:VCALENDAR
VERSION:2.0
PRODID:-//hacksw/handcal//NONSGML v1.0//EN
BEGIN:VEVENT
SUMMARY:Tournoi des vins BC Tours
UID:96f68236-ece2-4fec-99af-16393c5ad798
DTSTART:20260517T120000Z
DTEND:20260517T220000Z
LOCATION:Localisation   
CATEGORIES:Sportif
STATUS:
URL;VALUE=URI:https://comite-orleanais-bridge.club.ffbridge.fr/evenements/2026/05/17/tournoi-des-vins-bc-tours-2440640
END:VEVENT
END:VCALENDAR
