BEGIN:VCALENDAR
VERSION:2.0
PRODID:-//hacksw/handcal//NONSGML v1.0//EN
BEGIN:VEVENT
SUMMARY:Tournoi de Romorantin
UID:4cde3977-6c3c-450e-98f2-380057888915
DTSTART:20260514T120000Z
DTEND:20260514T220000Z
LOCATION:Localisation   
CATEGORIES:Sportif
STATUS:
URL;VALUE=URI:https://comite-orleanais-bridge.club.ffbridge.fr/evenements/2026/05/14/tournoi-de-romorantin-2440639
END:VEVENT
END:VCALENDAR
