BEGIN:VCALENDAR
VERSION:2.0
PRODID:-//hacksw/handcal//NONSGML v1.0//EN
BEGIN:VEVENT
SUMMARY:Festival de Vierzon
UID:2a01c2c4-5af1-42cd-a71a-a601939c0351
DTSTART:20260508T120000Z
DTEND:20260508T220000Z
LOCATION:Localisation   
CATEGORIES:Sportif
STATUS:
URL;VALUE=URI:https://comite-orleanais-bridge.club.ffbridge.fr/evenements/2026/05/08/festival-de-vierzon-2440631
END:VEVENT
END:VCALENDAR
